BEGIN:VCALENDAR
VERSION:2.0
PRODID:-// - ECPv6.15.15//NONSGML v1.0//EN
CALSCALE:GREGORIAN
METHOD:PUBLISH
X-ORIGINAL-URL:https://silenciogranada.es
X-WR-CALDESC:Eventos para 
REFRESH-INTERVAL;VALUE=DURATION:PT1H
X-Robots-Tag:noindex
X-PUBLISHED-TTL:PT1H
BEGIN:VTIMEZONE
TZID:Europe/Madrid
BEGIN:DAYLIGHT
TZOFFSETFROM:+0100
TZOFFSETTO:+0200
TZNAME:CEST
DTSTART:20250330T010000
END:DAYLIGHT
BEGIN:STANDARD
TZOFFSETFROM:+0200
TZOFFSETTO:+0100
TZNAME:CET
DTSTART:20251026T010000
END:STANDARD
BEGIN:DAYLIGHT
TZOFFSETFROM:+0100
TZOFFSETTO:+0200
TZNAME:CEST
DTSTART:20260329T010000
END:DAYLIGHT
BEGIN:STANDARD
TZOFFSETFROM:+0200
TZOFFSETTO:+0100
TZNAME:CET
DTSTART:20261025T010000
END:STANDARD
BEGIN:DAYLIGHT
TZOFFSETFROM:+0100
TZOFFSETTO:+0200
TZNAME:CEST
DTSTART:20270328T010000
END:DAYLIGHT
BEGIN:STANDARD
TZOFFSETFROM:+0200
TZOFFSETTO:+0100
TZNAME:CET
DTSTART:20271031T010000
END:STANDARD
END:VTIMEZONE
BEGIN:VEVENT
DTSTART;TZID=Europe/Madrid:20260402T093000
DTEND;TZID=Europe/Madrid:20260402T140000
DTSTAMP:20260419T152646
CREATED:20260224T121657Z
LAST-MODIFIED:20260224T121803Z
UID:4725-1775122200-1775138400@silenciogranada.es
SUMMARY:Presentación del Cristo de la Misericordia en su paso.
DESCRIPTION:
URL:https://silenciogranada.es/convocatoria/presentacion-del-cristo-de-la-misericordia-en-su-paso/
LOCATION:Iglesia de San Pedro y San Pablo\, Carrera del Darro nº2\, Granada\, Granada\, 18010\, Spain
ORGANIZER;CN="Hermandad del Silencio":MAILTO:secretaria@silenciogranada.es
END:VEVENT
BEGIN:VEVENT
DTSTART;VALUE=DATE:20260327
DTEND;VALUE=DATE:20260328
DTSTAMP:20260419T152646
CREATED:20260224T121544Z
LAST-MODIFIED:20260224T121544Z
UID:4723-1774569600-1774655999@silenciogranada.es
SUMMARY:Reunión nuevos hermanos y monaguillos
DESCRIPTION:Hora por confirmar.
URL:https://silenciogranada.es/convocatoria/reunion-nuevos-hermanos-y-monaguillos/
LOCATION:Casa de Hermandad\, CALLE VERACRUZ\, NUM 9\, Granada\, Granada\, 18004\, Spain
ORGANIZER;CN="Hermandad del Silencio":MAILTO:secretaria@silenciogranada.es
END:VEVENT
BEGIN:VEVENT
DTSTART;TZID=Europe/Madrid:20260320T180000
DTEND;TZID=Europe/Madrid:20260320T213000
DTSTAMP:20260419T152646
CREATED:20260224T121448Z
LAST-MODIFIED:20260224T121448Z
UID:4721-1774029600-1774042200@silenciogranada.es
SUMMARY:Acto Penitencial y Traslado del Cristo
DESCRIPTION:Acto Penitencial a las 18:00 horas y posterior traslado a la iglesia de San Pedro y San Pablo a las 20:00 horas.
URL:https://silenciogranada.es/convocatoria/acto-penitencial-y-traslado-del-cristo/
LOCATION:Iglesia de San José\, Calle San José nº1\, Granada\, Granada\, 18010\, Spain
ORGANIZER;CN="Hermandad del Silencio":MAILTO:secretaria@silenciogranada.es
END:VEVENT
BEGIN:VEVENT
DTSTART;VALUE=DATE:20260319
DTEND;VALUE=DATE:20260320
DTSTAMP:20260419T152646
CREATED:20260224T121251Z
LAST-MODIFIED:20260224T121251Z
UID:4719-1773878400-1773964799@silenciogranada.es
SUMMARY:Misa Festividad San José
DESCRIPTION:Hora por confirmar.
URL:https://silenciogranada.es/convocatoria/misa-festividad-san-jose/
LOCATION:Iglesia de San José\, Calle San José nº1\, Granada\, Granada\, 18010\, Spain
END:VEVENT
BEGIN:VEVENT
DTSTART;TZID=Europe/Madrid:20260312T193000
DTEND;TZID=Europe/Madrid:20260312T210000
DTSTAMP:20260419T152646
CREATED:20260211T160007Z
LAST-MODIFIED:20260211T160007Z
UID:4622-1773343800-1773349200@silenciogranada.es
SUMMARY:Inscripción Estación de Penitencia.
DESCRIPTION:Inscripción y retirada de hábitos para la Estación de Penitencia de 2026 para aquellos hermanos que NO salieron en 2025.
URL:https://silenciogranada.es/convocatoria/inscripcion-estacion-de-penitencia-7/
LOCATION:Casa de Hermandad\, CALLE VERACRUZ\, NUM 9\, Granada\, Granada\, 18004\, Spain
ORGANIZER;CN="Hermandad del Silencio":MAILTO:secretaria@silenciogranada.es
END:VEVENT
BEGIN:VEVENT
DTSTART;TZID=Europe/Madrid:20260311T193000
DTEND;TZID=Europe/Madrid:20260311T210000
DTSTAMP:20260419T152646
CREATED:20260211T155922Z
LAST-MODIFIED:20260211T155922Z
UID:4620-1773257400-1773262800@silenciogranada.es
SUMMARY:Inscripción Estación de Penitencia.
DESCRIPTION:Inscripción y retirada de hábitos para la Estación de Penitencia de 2026 para aquellos hermanos que NO salieron en 2025.
URL:https://silenciogranada.es/convocatoria/inscripcion-estacion-de-penitencia-6/
LOCATION:Casa de Hermandad\, CALLE VERACRUZ\, NUM 9\, Granada\, Granada\, 18004\, Spain
ORGANIZER;CN="Hermandad del Silencio":MAILTO:secretaria@silenciogranada.es
END:VEVENT
BEGIN:VEVENT
DTSTART;TZID=Europe/Madrid:20260310T193000
DTEND;TZID=Europe/Madrid:20260310T210000
DTSTAMP:20260419T152646
CREATED:20260211T155819Z
LAST-MODIFIED:20260211T155819Z
UID:4618-1773171000-1773176400@silenciogranada.es
SUMMARY:Inscripción Estación de Penitencia.
DESCRIPTION:Inscripción y retirada de hábitos para la Estación de Penitencia de 2026 para aquellos hermanos que NO salieron en 2025.
URL:https://silenciogranada.es/convocatoria/inscripcion-estacion-de-penitencia-5/
LOCATION:Casa de Hermandad\, CALLE VERACRUZ\, NUM 9\, Granada\, Granada\, 18004\, Spain
ORGANIZER;CN="Hermandad del Silencio":MAILTO:secretaria@silenciogranada.es
END:VEVENT
BEGIN:VEVENT
DTSTART;TZID=Europe/Madrid:20260309T193000
DTEND;TZID=Europe/Madrid:20260309T210000
DTSTAMP:20260419T152646
CREATED:20260211T155720Z
LAST-MODIFIED:20260211T155720Z
UID:4616-1773084600-1773090000@silenciogranada.es
SUMMARY:Inscripción Estación de Penitencia.
DESCRIPTION:Inscripción y retirada de hábitos para la Estación de Penitencia de 2026 para aquellos hermanos que NO salieron en 2025.
URL:https://silenciogranada.es/convocatoria/inscripcion-estacion-de-penitencia-4/
LOCATION:Casa de Hermandad\, CALLE VERACRUZ\, NUM 9\, Granada\, Granada\, 18004\, Spain
ORGANIZER;CN="Hermandad del Silencio":MAILTO:secretaria@silenciogranada.es
END:VEVENT
BEGIN:VEVENT
DTSTART;TZID=Europe/Madrid:20260307T193000
DTEND;TZID=Europe/Madrid:20260307T210000
DTSTAMP:20260419T152646
CREATED:20260224T114757Z
LAST-MODIFIED:20260224T114757Z
UID:4717-1772911800-1772917200@silenciogranada.es
SUMMARY:Culto mensual y Adoración Nocturna
DESCRIPTION:
URL:https://silenciogranada.es/convocatoria/culto-mensual-y-adoracion-nocturna/
LOCATION:Iglesia de San José\, Calle San José nº1\, Granada\, Granada\, 18010\, Spain
ORGANIZER;CN="Hermandad del Silencio":MAILTO:secretaria@silenciogranada.es
END:VEVENT
BEGIN:VEVENT
DTSTART;TZID=Europe/Madrid:20260307T110000
DTEND;TZID=Europe/Madrid:20260307T123000
DTSTAMP:20260419T152646
CREATED:20260224T114256Z
LAST-MODIFIED:20260224T114444Z
UID:4712-1772881200-1772886600@silenciogranada.es
SUMMARY:Visita Museo Carmelita
DESCRIPTION:Visita cultural al Museo Carmelita.\nDonativo 5€.\nPlazas limitadas.\nReserva al 640674890. \nCalle Monjas del Carmen nº8.
URL:https://silenciogranada.es/convocatoria/visita-museo-carmelita/
LOCATION:Granada
ORGANIZER;CN="Hermandad del Silencio":MAILTO:secretaria@silenciogranada.es
END:VEVENT
BEGIN:VEVENT
DTSTART;TZID=Europe/Madrid:20260306T193000
DTEND;TZID=Europe/Madrid:20260306T210000
DTSTAMP:20260419T152646
CREATED:20260211T155302Z
LAST-MODIFIED:20260216T134953Z
UID:4614-1772825400-1772830800@silenciogranada.es
SUMMARY:Inscripción Estación de Penitencia.
DESCRIPTION:Inscripción y retirada de hábitos para la Estación de Penitencia de 2026 para aquellos hermanos que SI salieron en 2025.
URL:https://silenciogranada.es/convocatoria/inscripcion-estacion-de-penitencia-3/
LOCATION:Casa de Hermandad\, CALLE VERACRUZ\, NUM 9\, Granada\, Granada\, 18004\, Spain
ORGANIZER;CN="Hermandad del Silencio":MAILTO:secretaria@silenciogranada.es
END:VEVENT
BEGIN:VEVENT
DTSTART;TZID=Europe/Madrid:20260305T193000
DTEND;TZID=Europe/Madrid:20260305T210000
DTSTAMP:20260419T152646
CREATED:20260211T155211Z
LAST-MODIFIED:20260211T155211Z
UID:4612-1772739000-1772744400@silenciogranada.es
SUMMARY:Inscripción Estación de Penitencia.
DESCRIPTION:Inscripción y retirada de hábitos para la Estación de Penitencia de 2026 para aquellos hermanos que SI salieron en 2025.
URL:https://silenciogranada.es/convocatoria/inscripcion-estacion-de-penitencia-2/
LOCATION:Casa de Hermandad\, CALLE VERACRUZ\, NUM 9\, Granada\, Granada\, 18004\, Spain
ORGANIZER;CN="Hermandad del Silencio":MAILTO:secretaria@silenciogranada.es
END:VEVENT
BEGIN:VEVENT
DTSTART;TZID=Europe/Madrid:20260304T193000
DTEND;TZID=Europe/Madrid:20260304T210000
DTSTAMP:20260419T152646
CREATED:20260211T155121Z
LAST-MODIFIED:20260211T155121Z
UID:4610-1772652600-1772658000@silenciogranada.es
SUMMARY:Inscripción Estación de Penitencia.
DESCRIPTION:Inscripción y retirada de hábitos para la Estación de Penitencia de 2026 para aquellos hermanos que SI salieron en 2025.
URL:https://silenciogranada.es/convocatoria/inscripcion-estacion-de-penitencia/
LOCATION:Casa de Hermandad\, CALLE VERACRUZ\, NUM 9\, Granada\, Granada\, 18004\, Spain
ORGANIZER;CN="Hermandad del Silencio":MAILTO:secretaria@silenciogranada.es
END:VEVENT
BEGIN:VEVENT
DTSTART;TZID=Europe/Madrid:20260303T193000
DTEND;TZID=Europe/Madrid:20260303T210000
DTSTAMP:20260419T152646
CREATED:20260211T153319Z
LAST-MODIFIED:20260212T075846Z
UID:4593-1772566200-1772571600@silenciogranada.es
SUMMARY:Inscripción Estación de Penitencia.
DESCRIPTION:Inscripción y retirada de hábitos para la Estación de Penitencia de 2026 para aquellos hermanos que SI salieron en 2025.
URL:https://silenciogranada.es/convocatoria/inscripcion-estacion-penitencia/
LOCATION:Casa de Hermandad\, CALLE VERACRUZ\, NUM 9\, Granada\, Granada\, 18004\, Spain
ORGANIZER;CN="Hermandad del Silencio":MAILTO:secretaria@silenciogranada.es
END:VEVENT
BEGIN:VEVENT
DTSTART;TZID=Europe/Madrid:20260228T193000
DTEND;TZID=Europe/Madrid:20260228T210000
DTSTAMP:20260419T152646
CREATED:20260211T154909Z
LAST-MODIFIED:20260211T154909Z
UID:4606-1772307000-1772312400@silenciogranada.es
SUMMARY:Quinto día de Quinario.
DESCRIPTION:Quinto día de Solemne Quinario en honor al Cristo de la Misericordia.
URL:https://silenciogranada.es/convocatoria/quinto-dia-de-quinario/
LOCATION:Iglesia de San José\, Calle San José nº1\, Granada\, Granada\, 18010\, Spain
ORGANIZER;CN="Hermandad del Silencio":MAILTO:secretaria@silenciogranada.es
END:VEVENT
BEGIN:VEVENT
DTSTART;TZID=Europe/Madrid:20260227T193000
DTEND;TZID=Europe/Madrid:20260227T210000
DTSTAMP:20260419T152646
CREATED:20260211T154816Z
LAST-MODIFIED:20260211T154816Z
UID:4604-1772220600-1772226000@silenciogranada.es
SUMMARY:Cuarto día de Quinario.
DESCRIPTION:Cuarto día de Solemne Quinario en honor al Cristo de la Misericordia.
URL:https://silenciogranada.es/convocatoria/cuarto-dia-de-quinario/
LOCATION:Iglesia de San José\, Calle San José nº1\, Granada\, Granada\, 18010\, Spain
ORGANIZER;CN="Hermandad del Silencio":MAILTO:secretaria@silenciogranada.es
END:VEVENT
BEGIN:VEVENT
DTSTART;TZID=Europe/Madrid:20260226T193000
DTEND;TZID=Europe/Madrid:20260226T210000
DTSTAMP:20260419T152646
CREATED:20260211T154046Z
LAST-MODIFIED:20260211T154206Z
UID:4600-1772134200-1772139600@silenciogranada.es
SUMMARY:Tercer día de Quinario.
DESCRIPTION:Tercer día de Solemne Quinario en honor al Cristo de la Misericordia.
URL:https://silenciogranada.es/convocatoria/tercer-dia-de-quinario/
LOCATION:Iglesia de San José\, Calle San José nº1\, Granada\, Granada\, 18010\, Spain
ORGANIZER;CN="Hermandad del Silencio":MAILTO:secretaria@silenciogranada.es
END:VEVENT
BEGIN:VEVENT
DTSTART;TZID=Europe/Madrid:20260225T193000
DTEND;TZID=Europe/Madrid:20260225T210000
DTSTAMP:20260419T152646
CREATED:20260211T153935Z
LAST-MODIFIED:20260211T154130Z
UID:4597-1772047800-1772053200@silenciogranada.es
SUMMARY:Segundo día de Quinario.
DESCRIPTION:Segundo día de Solemne Quinario en honor al Cristo de la Misericordia.
URL:https://silenciogranada.es/convocatoria/segundo-dia-de-quinario/
LOCATION:Iglesia de San José\, Calle San José nº1\, Granada\, Granada\, 18010\, Spain
ORGANIZER;CN="Hermandad del Silencio":MAILTO:secretaria@silenciogranada.es
END:VEVENT
BEGIN:VEVENT
DTSTART;TZID=Europe/Madrid:20260224T193000
DTEND;TZID=Europe/Madrid:20260224T210000
DTSTAMP:20260419T152646
CREATED:20260211T153600Z
LAST-MODIFIED:20260211T154111Z
UID:4595-1771961400-1771966800@silenciogranada.es
SUMMARY:Primer día de Quinario
DESCRIPTION:Primer día de Solemne Quinario en honor al Cristo de la Misericordia.
URL:https://silenciogranada.es/convocatoria/primer-dia-de-quinario/
LOCATION:Iglesia de San José\, Calle San José nº1\, Granada\, Granada\, 18010\, Spain
ORGANIZER;CN="Hermandad del Silencio":MAILTO:secretaria@silenciogranada.es
END:VEVENT
BEGIN:VEVENT
DTSTART;TZID=Europe/Madrid:20260216T203000
DTEND;TZID=Europe/Madrid:20260216T223000
DTSTAMP:20260419T152646
CREATED:20260214T102344Z
LAST-MODIFIED:20260214T102556Z
UID:4692-1771273800-1771281000@silenciogranada.es
SUMMARY:Junta General
DESCRIPTION:El Secretario de la Hermandad\, de conformidad con lo establecido en los Estatutos de la\nmisma\, le convoca\, como Hermano Activo/Asociado\, a la sesión Ordinaria de la Junta General que tendrá lugar (D.m.)\, el lunes 16 de febrero de 2026\, a las 20’30 h. en primera convocatoria y a las 20’45 h en segunda\, en nuestra Casa de Hermandad\, C/ Veracruz 9\, con el siguiente \nO R D E N D E L D Í A\nPreces Iniciales\nDesignación de dos interventores para el acta de la presente sesión.\n1. Lectura y aprobación\, si procede\, del acta de la Junta anterior.\n2. Lectura de los acuerdos de contenido dispositivo adoptados por la Junta de Gobierno.\n3. Lectura y aprobación\, si procede\,\n– del informe de los censores de cuentas.\n– de la liquidación de los presupuestos\, cuenta de resultados y balance de situación del Ejercicio Económico 2025.\n4. Lectura y aprobación\, en su caso\, del Itinerario y Horario de la Estación de\nPenitencia propuesto por la Junta de Gobierno\, y toma de conocimiento de cuanto\nesté relacionado con ella.\n5. Ruegos y Preguntas.\nDe conformidad con lo dispuesto en el artículo 11-1\, f) de los Estatutos\, los Hermanos Asociados pueden participar con voz y voto en el punto 4. \nCONVOCATORIA A LA REUNIÓN EXTRAORDINARIA DE LA JUNTA GENERAL\nIgualmente\, tras la celebración de la anterior Reunión Ordinaria\, se acuerda convocar a\nla Junta General con carácter Extraordinario para conocer del siguiente\nO R D E N D E L D Í A\n1. Propuesta de concesión de Honores y Distinciones de la Hermandad.\nPreces finales\nGranada\, a 28 de enero de 2026
URL:https://silenciogranada.es/convocatoria/junta-general/
LOCATION:Casa de Hermandad\, CALLE VERACRUZ\, NUM 9\, Granada\, Granada\, 18004\, Spain
ORGANIZER;CN="Hermandad del Silencio":MAILTO:secretaria@silenciogranada.es
END:VEVENT
END:VCALENDAR